Package: bedbaser Version: 1.2.0 Command: /home/biocbuild/bbs-3.22-bioc/R/bin/R CMD build --keep-empty-dirs --no-resave-data --md5 bedbaser StartedAt: 2025-11-17 19:41:11 -0500 (Mon, 17 Nov 2025) EndedAt: 2025-11-17 19:42:18 -0500 (Mon, 17 Nov 2025) EllapsedTime: 67.0 seconds RetCode: 0 Status: OK PackageFile: bedbaser_1.2.0.tar.gz PackageFileSize: 252.5 KiB