Package: bedbaser Version: 1.2.0 Command: /Library/Frameworks/R.framework/Resources/bin/R CMD build --keep-empty-dirs --no-resave-data bedbaser StartedAt: 2025-11-10 15:44:07 -0500 (Mon, 10 Nov 2025) EndedAt: 2025-11-10 15:44:51 -0500 (Mon, 10 Nov 2025) EllapsedTime: 43.5 seconds RetCode: 0 Status: OK PackageFile: bedbaser_1.2.0.tar.gz PackageFileSize: 251.4 KiB