Package: bedbaser Version: 1.2.0 Command: rm -rf bedbaser.buildbin-libdir && mkdir bedbaser.buildbin-libdir && /Users/biocbuild/BBS/utils/build-universal.sh bedbaser_1.2.0.tar.gz /Library/Frameworks/R.framework/Resources/bin/R bedbaser.buildbin-libdir StartedAt: 2025-11-10 23:12:19 -0500 (Mon, 10 Nov 2025) EndedAt: 2025-11-10 23:12:22 -0500 (Mon, 10 Nov 2025) EllapsedTime: 3.0 seconds RetCode: 0 Status: OK PackageFile: bedbaser_1.2.0.tgz PackageFileSize: 312.2 KiB