Package: beadarray Version: 2.56.0 Command: /home/biocbuild/R/R/bin/R CMD check --install=check:beadarray.install-out.txt --library=/home/biocbuild/R/R/site-library --no-vignettes --timings beadarray_2.56.0.tar.gz StartedAt: 2025-01-28 04:49:58 -0000 (Tue, 28 Jan 2025) EndedAt: 2025-01-28 04:56:55 -0000 (Tue, 28 Jan 2025) EllapsedTime: 416.6 seconds RetCode: 0 Status: OK CheckDir: beadarray.Rcheck Warnings: 0