Package: beadarray Version: 2.58.0 Command: rm -rf beadarray.buildbin-libdir && mkdir beadarray.buildbin-libdir && E:\biocbuild\bbs-3.21-bioc\R\bin\R.exe CMD INSTALL --build --library=beadarray.buildbin-libdir beadarray_2.58.0.tar.gz StartedAt: 2025-08-15 08:49:20 -0400 (Fri, 15 Aug 2025) EndedAt: 2025-08-15 08:51:14 -0400 (Fri, 15 Aug 2025) EllapsedTime: 113.5 seconds RetCode: 0 Status: OK PackageFile: beadarray_2.58.0.zip PackageFileSize: 4.777 MiB