Package: beadarray Version: 2.58.0 Command: /home/biocbuild/bbs-3.21-bioc/R/bin/R CMD INSTALL beadarray StartedAt: 2025-10-08 15:29:44 -0400 (Wed, 08 Oct 2025) EndedAt: 2025-10-08 15:30:11 -0400 (Wed, 08 Oct 2025) EllapsedTime: 27.2 seconds RetCode: 0 Status: OK