Package: beachmat.hdf5 Version: 1.6.0 Command: /Library/Frameworks/R.framework/Resources/bin/R CMD INSTALL beachmat.hdf5 StartedAt: 2025-04-21 15:30:18 -0400 (Mon, 21 Apr 2025) EndedAt: 2025-04-21 15:31:27 -0400 (Mon, 21 Apr 2025) EllapsedTime: 69.5 seconds RetCode: 0 Status: OK