Package: beachmat.hdf5 Version: 1.6.0 Command: /Library/Frameworks/R.framework/Resources/bin/R CMD check --install=check:beachmat.hdf5.install-out.txt --library=/Library/Frameworks/R.framework/Resources/library --no-vignettes --timings beachmat.hdf5_1.6.0.tar.gz StartedAt: 2025-04-21 19:13:33 -0400 (Mon, 21 Apr 2025) EndedAt: 2025-04-21 19:16:07 -0400 (Mon, 21 Apr 2025) EllapsedTime: 153.5 seconds RetCode: 0 Status: WARNINGS CheckDir: beachmat.hdf5.Rcheck Warnings: 1