Package: beachmat.hdf5 Version: 1.6.0 Command: /Library/Frameworks/R.framework/Resources/bin/R CMD check --install=check:beachmat.hdf5.install-out.txt --library=/Library/Frameworks/R.framework/Resources/library --no-vignettes --timings beachmat.hdf5_1.6.0.tar.gz StartedAt: 2025-05-06 12:35:27 -0400 (Tue, 06 May 2025) EndedAt: 2025-05-06 12:37:38 -0400 (Tue, 06 May 2025) EllapsedTime: 131.0 seconds RetCode: 0 Status: WARNINGS CheckDir: beachmat.hdf5.Rcheck Warnings: 1