Package: baySeq Version: 2.40.0 Command: /home/biocbuild/R/R/bin/R CMD check --install=check:baySeq.install-out.txt --library=/home/biocbuild/R/R/site-library --no-vignettes --timings baySeq_2.40.0.tar.gz StartedAt: 2025-01-31 04:01:45 -0000 (Fri, 31 Jan 2025) EndedAt: 2025-01-31 04:05:40 -0000 (Fri, 31 Jan 2025) EllapsedTime: 235.3 seconds RetCode: 0 Status: OK CheckDir: baySeq.Rcheck Warnings: 0