Package: baySeq Version: 2.40.0 Command: /home/biocbuild/R/R/bin/R CMD build --keep-empty-dirs --no-resave-data baySeq StartedAt: 2025-02-03 21:48:33 -0000 (Mon, 03 Feb 2025) EndedAt: 2025-02-03 21:57:11 -0000 (Mon, 03 Feb 2025) EllapsedTime: 518.1 seconds RetCode: 0 Status: OK PackageFile: baySeq_2.40.0.tar.gz PackageFileSize: 1.109 MiB