Package: batchelor Version: 1.22.0 Command: /home/biocbuild/R/R/bin/R CMD check --install=check:batchelor.install-out.txt --library=/home/biocbuild/R/R/site-library --no-vignettes --timings batchelor_1.22.0.tar.gz StartedAt: 2025-01-31 04:01:28 -0000 (Fri, 31 Jan 2025) EndedAt: 2025-01-31 04:10:18 -0000 (Fri, 31 Jan 2025) EllapsedTime: 529.8 seconds RetCode: 0 Status: OK CheckDir: batchelor.Rcheck Warnings: 0