Package: batchCorr Version: 0.99.8 Command: /home/biocbuild/R/R/bin/R CMD INSTALL batchCorr StartedAt: 2025-10-23 20:41:42 -0000 (Thu, 23 Oct 2025) EndedAt: 2025-10-23 20:42:10 -0000 (Thu, 23 Oct 2025) EllapsedTime: 28.1 seconds RetCode: 0 Status: OK