Package: batchCorr Version: 0.99.8 Command: /home/biocbuild/R/R/bin/R CMD build --keep-empty-dirs --no-resave-data batchCorr StartedAt: 2025-10-20 21:57:14 -0000 (Mon, 20 Oct 2025) EndedAt: 2025-10-20 21:59:41 -0000 (Mon, 20 Oct 2025) EllapsedTime: 147.0 seconds RetCode: 0 Status: OK PackageFile: batchCorr_0.99.8.tar.gz PackageFileSize: 925.2 KiB