Package: batchCorr Version: 1.0.0 Command: /home/biocbuild/bbs-3.22-bioc/R/bin/R CMD INSTALL batchCorr StartedAt: 2025-11-02 15:30:04 -0500 (Sun, 02 Nov 2025) EndedAt: 2025-11-02 15:30:35 -0500 (Sun, 02 Nov 2025) EllapsedTime: 31.5 seconds RetCode: 0 Status: OK