Package: batchCorr Version: 1.0.0 Command: /home/biocbuild/bbs-3.22-bioc/R/bin/R CMD build --keep-empty-dirs --no-resave-data --md5 batchCorr StartedAt: 2025-11-02 16:36:12 -0500 (Sun, 02 Nov 2025) EndedAt: 2025-11-02 16:38:24 -0500 (Sun, 02 Nov 2025) EllapsedTime: 132.1 seconds RetCode: 0 Status: OK PackageFile: batchCorr_1.0.0.tar.gz PackageFileSize: 902.1 KiB