Package: batchCorr Version: 1.0.0 Command: /Library/Frameworks/R.framework/Resources/bin/R CMD INSTALL batchCorr StartedAt: 2025-11-20 16:24:33 -0500 (Thu, 20 Nov 2025) EndedAt: 2025-11-20 16:25:18 -0500 (Thu, 20 Nov 2025) EllapsedTime: 45.3 seconds RetCode: 0 Status: OK