Package: batchCorr Version: 1.0.0 Command: /Library/Frameworks/R.framework/Resources/bin/R CMD build --keep-empty-dirs --no-resave-data batchCorr StartedAt: 2025-11-20 18:02:42 -0500 (Thu, 20 Nov 2025) EndedAt: 2025-11-20 18:08:03 -0500 (Thu, 20 Nov 2025) EllapsedTime: 321.2 seconds RetCode: 0 Status: OK PackageFile: batchCorr_1.0.0.tar.gz PackageFileSize: 900.5 KiB