Package: batchCorr Version: 1.0.0 Command: /Library/Frameworks/R.framework/Resources/bin/R CMD INSTALL batchCorr StartedAt: 2025-11-03 15:27:44 -0500 (Mon, 03 Nov 2025) EndedAt: 2025-11-03 15:28:13 -0500 (Mon, 03 Nov 2025) EllapsedTime: 29.3 seconds RetCode: 0 Status: OK