Package: batchCorr Version: 1.0.0 Command: /Library/Frameworks/R.framework/Resources/bin/R CMD build --keep-empty-dirs --no-resave-data batchCorr StartedAt: 2025-10-31 16:13:03 -0400 (Fri, 31 Oct 2025) EndedAt: 2025-10-31 16:15:34 -0400 (Fri, 31 Oct 2025) EllapsedTime: 151.6 seconds RetCode: 0 Status: OK PackageFile: batchCorr_1.0.0.tar.gz PackageFileSize: 900.5 KiB