Package: batchCorr Version: 1.0.0 Command: /Library/Frameworks/R.framework/Resources/bin/R CMD INSTALL batchCorr StartedAt: 2025-11-02 15:13:57 -0500 (Sun, 02 Nov 2025) EndedAt: 2025-11-02 15:14:05 -0500 (Sun, 02 Nov 2025) EllapsedTime: 8.4 seconds RetCode: 0 Status: OK