Package: batchCorr Version: 1.0.0 Command: /Library/Frameworks/R.framework/Resources/bin/R CMD build --keep-empty-dirs --no-resave-data batchCorr StartedAt: 2025-11-20 20:28:14 -0500 (Thu, 20 Nov 2025) EndedAt: 2025-11-20 20:30:54 -0500 (Thu, 20 Nov 2025) EllapsedTime: 160.5 seconds RetCode: 0 Status: OK PackageFile: batchCorr_1.0.0.tar.gz PackageFileSize: 900.7 KiB