Package: batchCorr Version: 1.0.0 Maintainer: Anton Ribbenstedt MaintainerEmail: parasitetwin at gmail.com git_url: https://git.bioconductor.org/packages/batchCorr git_branch: RELEASE_3_22 git_last_commit: 25f7e5b git_last_commit_date: 2025-10-29 11:37:00 -0400 (Wed, 29 Oct 2025)