Package: basilisk Version: 1.20.0 Command: /home/biocbuild/bbs-3.21-bioc/R/bin/R CMD INSTALL basilisk StartedAt: 2025-10-05 15:10:48 -0400 (Sun, 05 Oct 2025) EndedAt: 2025-10-05 15:11:03 -0400 (Sun, 05 Oct 2025) EllapsedTime: 15.5 seconds RetCode: 0 Status: OK