Package: basilisk Version: 1.20.0 Command: /home/biocbuild/bbs-3.21-bioc/R/bin/R CMD build --keep-empty-dirs --no-resave-data basilisk StartedAt: 2025-10-05 16:17:36 -0400 (Sun, 05 Oct 2025) EndedAt: 2025-10-05 16:18:53 -0400 (Sun, 05 Oct 2025) EllapsedTime: 77.1 seconds RetCode: 1 Status: ERROR PackageFile: None PackageFileSize: NA