Package: basecallQC Version: 1.30.0 Command: /Library/Frameworks/R.framework/Resources/bin/R CMD INSTALL basecallQC StartedAt: 2025-02-10 16:39:43 -0500 (Mon, 10 Feb 2025) EndedAt: 2025-02-10 16:40:43 -0500 (Mon, 10 Feb 2025) EllapsedTime: 60.3 seconds RetCode: 0 Status: OK