Package: basecallQC Version: 1.30.0 Command: /Library/Frameworks/R.framework/Resources/bin/R CMD check --install=check:basecallQC.install-out.txt --library=/Library/Frameworks/R.framework/Resources/library --no-vignettes --timings basecallQC_1.30.0.tar.gz StartedAt: 2025-02-04 11:59:38 -0500 (Tue, 04 Feb 2025) EndedAt: 2025-02-04 12:07:01 -0500 (Tue, 04 Feb 2025) EllapsedTime: 443.4 seconds RetCode: 0 Status: OK CheckDir: basecallQC.Rcheck Warnings: 0