Package: barcodetrackR Version: 1.16.0 Command: E:\biocbuild\bbs-3.21-bioc\R\bin\R.exe CMD INSTALL barcodetrackR StartedAt: 2025-08-14 16:05:29 -0400 (Thu, 14 Aug 2025) EndedAt: 2025-08-14 16:06:24 -0400 (Thu, 14 Aug 2025) EllapsedTime: 54.9 seconds RetCode: 0 Status: OK