Package: barcodetrackR Version: 1.14.0 Command: /home/biocbuild/bbs-3.20-bioc/R/bin/R CMD check --install=check:barcodetrackR.install-out.txt --library=/home/biocbuild/bbs-3.20-bioc/R/site-library --timings barcodetrackR_1.14.0.tar.gz StartedAt: 2025-01-30 20:02:16 -0500 (Thu, 30 Jan 2025) EndedAt: 2025-01-30 20:06:00 -0500 (Thu, 30 Jan 2025) EllapsedTime: 223.7 seconds RetCode: 0 Status: OK CheckDir: barcodetrackR.Rcheck Warnings: 0