Package: barbieQ Version: 1.2.0 Command: /home/biocbuild/bbs-3.22-bioc/R/bin/R CMD INSTALL barbieQ StartedAt: 2025-11-11 15:25:32 -0500 (Tue, 11 Nov 2025) EndedAt: 2025-11-11 15:26:00 -0500 (Tue, 11 Nov 2025) EllapsedTime: 28.7 seconds RetCode: 0 Status: OK