Package: banocc Version: 1.32.0 Command: /Library/Frameworks/R.framework/Resources/bin/R CMD INSTALL banocc StartedAt: 2025-04-21 15:04:32 -0400 (Mon, 21 Apr 2025) EndedAt: 2025-04-21 15:04:46 -0400 (Mon, 21 Apr 2025) EllapsedTime: 13.1 seconds RetCode: 0 Status: OK