Package: banocc Version: 1.32.0 Command: /Library/Frameworks/R.framework/Resources/bin/R CMD check --install=check:banocc.install-out.txt --library=/Library/Frameworks/R.framework/Resources/library --no-vignettes --timings banocc_1.32.0.tar.gz StartedAt: 2025-04-21 18:13:32 -0400 (Mon, 21 Apr 2025) EndedAt: 2025-04-21 18:14:19 -0400 (Mon, 21 Apr 2025) EllapsedTime: 47.5 seconds RetCode: 0 Status: OK CheckDir: banocc.Rcheck Warnings: 0