Package: banocc Version: 1.32.0 Command: /Library/Frameworks/R.framework/Resources/bin/R CMD build --keep-empty-dirs --no-resave-data banocc StartedAt: 2025-04-21 15:40:24 -0400 (Mon, 21 Apr 2025) EndedAt: 2025-04-21 15:41:06 -0400 (Mon, 21 Apr 2025) EllapsedTime: 42.5 seconds RetCode: 0 Status: OK PackageFile: banocc_1.32.0.tar.gz PackageFileSize: 26.07 MiB