Package: bamsignals Version: 1.38.0 Command: /home/biocbuild/R/R/bin/R CMD check --install=check:bamsignals.install-out.txt --library=/home/biocbuild/R/R/site-library --no-vignettes --timings bamsignals_1.38.0.tar.gz StartedAt: 2025-01-31 03:58:09 -0000 (Fri, 31 Jan 2025) EndedAt: 2025-01-31 04:00:22 -0000 (Fri, 31 Jan 2025) EllapsedTime: 133.1 seconds RetCode: 0 Status: OK CheckDir: bamsignals.Rcheck Warnings: 0