Package: bamsignals Version: 1.40.0 Command: /home/biocbuild/bbs-3.21-bioc/R/bin/R CMD build --keep-empty-dirs --no-resave-data bamsignals StartedAt: 2025-10-05 16:15:30 -0400 (Sun, 05 Oct 2025) EndedAt: 2025-10-05 16:16:00 -0400 (Sun, 05 Oct 2025) EllapsedTime: 30.0 seconds RetCode: 0 Status: OK PackageFile: bamsignals_1.40.0.tar.gz PackageFileSize: 3.338 MiB