Package: bamsignals Version: 1.40.0 Command: /home/biocbuild/R/R/bin/R CMD INSTALL bamsignals StartedAt: 2025-05-12 20:26:53 -0000 (Mon, 12 May 2025) EndedAt: 2025-05-12 20:27:26 -0000 (Mon, 12 May 2025) EllapsedTime: 32.3 seconds RetCode: 0 Status: OK