Package: bamsignals Version: 1.40.0 Command: /Library/Frameworks/R.framework/Resources/bin/R CMD build --keep-empty-dirs --no-resave-data bamsignals StartedAt: 2025-04-21 15:40:14 -0400 (Mon, 21 Apr 2025) EndedAt: 2025-04-21 15:40:26 -0400 (Mon, 21 Apr 2025) EllapsedTime: 12.1 seconds RetCode: 0 Status: OK PackageFile: bamsignals_1.40.0.tar.gz PackageFileSize: 3.151 MiB