Package: bamsignals Version: 1.40.0 Maintainer: Johannes Helmuth MaintainerEmail: johannes.helmuth at laborberlin.com git_url: https://git.bioconductor.org/packages/bamsignals git_branch: RELEASE_3_21 git_last_commit: 0c59dd6 git_last_commit_date: 2025-04-15 10:49:08 -0400 (Tue, 15 Apr 2025)