Package: bambu Version: 3.8.0 Command: chmod a+r bambu -R && F:\biocbuild\bbs-3.20-bioc\R\bin\R.exe CMD build --keep-empty-dirs --no-resave-data bambu StartedAt: 2025-01-30 17:23:47 -0500 (Thu, 30 Jan 2025) EndedAt: 2025-01-30 17:40:02 -0500 (Thu, 30 Jan 2025) EllapsedTime: 975.1 seconds RetCode: 0 Status: OK PackageFile: bambu_3.8.0.tar.gz PackageFileSize: 2.047 MiB