Package: bambu Version: 3.8.0 Command: /Library/Frameworks/R.framework/Resources/bin/R CMD build --keep-empty-dirs --no-resave-data bambu StartedAt: 2025-01-30 17:14:40 -0500 (Thu, 30 Jan 2025) EndedAt: 2025-01-30 17:46:55 -0500 (Thu, 30 Jan 2025) EllapsedTime: 1935.0 seconds RetCode: 0 Status: OK PackageFile: bambu_3.8.0.tar.gz PackageFileSize: 2.289 MiB