Package: bambu Version: 3.8.0 Command: rm -rf bambu.buildbin-libdir && mkdir bambu.buildbin-libdir && /Users/biocbuild/BBS/utils/build-universal.sh bambu_3.8.0.tar.gz /Library/Frameworks/R.framework/Resources/bin/R bambu.buildbin-libdir StartedAt: 2025-01-31 12:21:32 -0500 (Fri, 31 Jan 2025) EndedAt: 2025-01-31 12:23:34 -0500 (Fri, 31 Jan 2025) EllapsedTime: 121.7 seconds RetCode: 0 Status: OK PackageFile: bambu_3.8.0.tgz PackageFileSize: 2.094 MiB