Package: bambu Version: 3.10.0 Command: /home/biocbuild/R/R/bin/R CMD build --keep-empty-dirs --no-resave-data bambu StartedAt: 2025-05-05 22:42:54 -0000 (Mon, 05 May 2025) EndedAt: 2025-05-05 23:16:50 -0000 (Mon, 05 May 2025) EllapsedTime: 2035.5 seconds RetCode: 0 Status: OK PackageFile: bambu_3.10.0.tar.gz PackageFileSize: 2.22 MiB