Package: bambu Version: 3.10.0 Command: rm -rf bambu.buildbin-libdir && mkdir bambu.buildbin-libdir && /Users/biocbuild/BBS/utils/build-universal.sh bambu_3.10.0.tar.gz /Library/Frameworks/R.framework/Resources/bin/R bambu.buildbin-libdir StartedAt: 2025-04-21 22:26:40 -0400 (Mon, 21 Apr 2025) EndedAt: 2025-04-21 22:27:05 -0400 (Mon, 21 Apr 2025) EllapsedTime: 24.4 seconds RetCode: 0 Status: OK PackageFile: bambu_3.10.0.tgz PackageFileSize: 2.087 MiB