Package: awst Version: 1.16.0 Maintainer: Davide Risso MaintainerEmail: risso.davide at gmail.com git_url: https://git.bioconductor.org/packages/awst git_branch: RELEASE_3_21 git_last_commit: 7d9cb0b git_last_commit_date: 2025-04-15 12:28:46 -0400 (Tue, 15 Apr 2025)