Package: autonomics Version: 1.14.8 Command: /home/biocbuild/R/R/bin/R CMD INSTALL autonomics StartedAt: 2025-01-30 20:19:59 -0000 (Thu, 30 Jan 2025) EndedAt: 2025-01-30 20:20:46 -0000 (Thu, 30 Jan 2025) EllapsedTime: 47.0 seconds RetCode: 0 Status: OK