Package: autonomics Version: 1.14.8 Command: /home/biocbuild/R/R/bin/R CMD build --keep-empty-dirs --no-resave-data autonomics StartedAt: 2025-01-30 21:38:30 -0000 (Thu, 30 Jan 2025) EndedAt: 2025-01-30 21:41:25 -0000 (Thu, 30 Jan 2025) EllapsedTime: 174.0 seconds RetCode: 0 Status: OK PackageFile: autonomics_1.14.8.tar.gz PackageFileSize: 1.3 MiB