Package: atena Version: 1.14.0 Maintainer: Robert Castelo MaintainerEmail: robert.castelo at upf.edu git_url: https://git.bioconductor.org/packages/atena git_branch: RELEASE_3_21 git_last_commit: 678448e git_last_commit_date: 2025-04-15 12:38:43 -0400 (Tue, 15 Apr 2025)