Package: atSNP Version: 1.22.0 Command: /Library/Frameworks/R.framework/Resources/bin/R CMD INSTALL atSNP StartedAt: 2025-01-30 16:08:57 -0500 (Thu, 30 Jan 2025) EndedAt: 2025-01-30 16:10:59 -0500 (Thu, 30 Jan 2025) EllapsedTime: 122.5 seconds RetCode: 0 Status: OK