Package: arrayQuality Version: 1.86.0 Command: /Library/Frameworks/R.framework/Resources/bin/R CMD build --keep-empty-dirs --no-resave-data arrayQuality StartedAt: 2025-07-17 19:02:21 -0400 (Thu, 17 Jul 2025) EndedAt: 2025-07-17 19:02:31 -0400 (Thu, 17 Jul 2025) EllapsedTime: 9.9 seconds RetCode: 0 Status: OK PackageFile: arrayQuality_1.86.0.tar.gz PackageFileSize: 12.82 MiB