Package: arrayMvout Version: 1.64.0 Command: /home/biocbuild/R/R/bin/R CMD INSTALL arrayMvout StartedAt: 2025-01-30 21:06:13 -0000 (Thu, 30 Jan 2025) EndedAt: 2025-01-30 21:07:12 -0000 (Thu, 30 Jan 2025) EllapsedTime: 58.6 seconds RetCode: 0 Status: OK